BEGIN:VCALENDAR
VERSION:2.0
PRODID:-//イルチブレインヨガ石橋スタジオ - ECPv6.15.20//NONSGML v1.0//EN
CALSCALE:GREGORIAN
METHOD:PUBLISH
X-WR-CALNAME:イルチブレインヨガ石橋スタジオ
X-ORIGINAL-URL:https://ilchibrainyoga-ishibashi.com
X-WR-CALDESC:イルチブレインヨガ石橋スタジオ のイベント
REFRESH-INTERVAL;VALUE=DURATION:PT1H
X-Robots-Tag:noindex
X-PUBLISHED-TTL:PT1H
BEGIN:VTIMEZONE
TZID:Asia/Tokyo
BEGIN:STANDARD
TZOFFSETFROM:+0900
TZOFFSETTO:+0900
TZNAME:JST
DTSTART:20250101T000000
END:STANDARD
END:VTIMEZONE
BEGIN:VEVENT
DTSTART;TZID=Asia/Tokyo:20260213T190000
DTEND;TZID=Asia/Tokyo:20260213T203000
DTSTAMP:20260423T000848
CREATED:20260206T054348Z
LAST-MODIFIED:20260206T054852Z
UID:5450-1771009200-1771014600@ilchibrainyoga-ishibashi.com
SUMMARY:『私の人生革命』を起こす氣エネルギー瞑想会
DESCRIPTION:変わりたいのに、なぜ変えられないのか？\n私の人生を変える、そのポイントは氣エネルギーを変えること。\n４０年以上前から研究された氣エネルギー瞑想法を体験できます。 \n開催日：2月13日（金）20日（金）\n時間：19：00～20：30\n会場名：イルチブレインヨガ石橋スタジオ\n会場住所：池田市石橋１丁目マキノビル2階\n参加費：０円\nトレーナー：山下美佐子・菊地靖子\n持ち物：動きやすい服装、お飲み物\n問合せ電話：072-762-7507 \n\nLINEからのお申し込みはこちら⇒https://lin.ee/aObW5QQ \n\n\n  \n\n\n\n\n\n \n体験ご希望日時\n		(必須)　※ご注意：月曜日は定休日です\n		\n \n—以下から選択してください—10111213141516171819時 —以下から選択してください—001020304050分 ～ のクラス\n \nお名前\n		 (必須)\n		\n \n\n \nメールアドレス\n		 (必須)\n		\n \n\n \nお電話番号（携帯可）\n		 (必須)\n		\n \n\n \nこちらのスタジオを何でお知りになりましたか？\n		 (必須)\n		\n \nチラシ看板書籍雑誌紹介Yahoo検索Google検索口コミその他Webサイト\n \nご関心があること、習得したいこと（複数可）\n \n自然治癒力アップ集中力アップダイエット体質改善ストレス緩和丹田強化呼吸法瞑想法リラックス運動不足解消姿勢がよくなりたいその他（備考欄にご記入ください）\n \n備考欄\n \n\n \n\n\n \n\n Δ \n\n\n\n株式会社DAHN WORLD JAPAN　ダンワールドジャパン
URL:https://ilchibrainyoga-ishibashi.com/event/ishibashi-70/
LOCATION:イルチブレインヨガ石橋スタジオ\, 大阪府池田市石橋 2丁目 2-10\, 牧野ビル2F\, 日本
CATEGORIES:体験会
ATTACH;FMTTYPE=image/jpeg:https://ilchibrainyoga-ishibashi.com/wp-content/uploads/2026/02/267bb1cceb0f00165be06139d21e2f40.jpg
END:VEVENT
BEGIN:VEVENT
DTSTART;TZID=Asia/Tokyo:20260214T140000
DTEND;TZID=Asia/Tokyo:20260214T150000
DTSTAMP:20260423T000848
CREATED:20260206T054814Z
LAST-MODIFIED:20260206T054814Z
UID:5455-1771077600-1771081200@ilchibrainyoga-ishibashi.com
SUMMARY:『頑張ってきた私を次のステージに導くヨガ』
DESCRIPTION:自分軸を強化するブレイン体操＆思考が静かになる瞑想\n開催日：2月14日（土）\n時間：14：00～15：00\n会場名：イルチブレインヨガ石橋スタジオ\n会場住所：池田市石橋１丁目マキノビル2階\n参加費：1\,000円\nトレーナー：山下美佐子・菊地靖子\n持ち物：動きやすい服装、お飲み物\n問合せ電話：072-762-7507 \n\nLINEからのお申し込みはこちら⇒https://lin.ee/aObW5QQ \n\n\n  \n\n\n\n\n\n \n体験ご希望日時\n		(必須)　※ご注意：月曜日は定休日です\n		\n \n—以下から選択してください—10111213141516171819時 —以下から選択してください—001020304050分 ～ のクラス\n \nお名前\n		 (必須)\n		\n \n\n \nメールアドレス\n		 (必須)\n		\n \n\n \nお電話番号（携帯可）\n		 (必須)\n		\n \n\n \nこちらのスタジオを何でお知りになりましたか？\n		 (必須)\n		\n \nチラシ看板書籍雑誌紹介Yahoo検索Google検索口コミその他Webサイト\n \nご関心があること、習得したいこと（複数可）\n \n自然治癒力アップ集中力アップダイエット体質改善ストレス緩和丹田強化呼吸法瞑想法リラックス運動不足解消姿勢がよくなりたいその他（備考欄にご記入ください）\n \n備考欄\n \n\n \n\n\n \n\n Δ \n\n\n\n株式会社DAHN WORLD JAPAN　ダンワールドジャパン
URL:https://ilchibrainyoga-ishibashi.com/event/ishibashi-139/
LOCATION:イルチブレインヨガ石橋スタジオ\, 大阪府池田市石橋 2丁目 2-10\, 牧野ビル2F\, 日本
CATEGORIES:体験会
ATTACH;FMTTYPE=image/jpeg:https://ilchibrainyoga-ishibashi.com/wp-content/uploads/2026/02/6841ee6a672516af4b540c4567d31ecb.jpg
END:VEVENT
BEGIN:VEVENT
DTSTART;TZID=Asia/Tokyo:20260220T190000
DTEND;TZID=Asia/Tokyo:20260220T203000
DTSTAMP:20260423T000849
CREATED:20260206T054528Z
LAST-MODIFIED:20260206T054855Z
UID:5453-1771614000-1771619400@ilchibrainyoga-ishibashi.com
SUMMARY:『私の人生革命』を起こす氣エネルギー瞑想会
DESCRIPTION:変わりたいのに、なぜ変えられないのか？\n私の人生を変える、そのポイントは氣エネルギーを変えること。\n４０年以上前から研究された氣エネルギー瞑想法を体験できます。 \n開催日：2月20日（金）\n時間：19：00～20：30\n会場名：イルチブレインヨガ石橋スタジオ\n会場住所：池田市石橋１丁目マキノビル2階\n参加費：０円\nトレーナー：山下美佐子・菊地靖子\n持ち物：動きやすい服装、お飲み物\n問合せ電話：072-762-7507 \n\nLINEからのお申し込みはこちら⇒https://lin.ee/aObW5QQ \n\n\n  \n\n\n\n\n\n \n体験ご希望日時\n		(必須)　※ご注意：月曜日は定休日です\n		\n \n—以下から選択してください—10111213141516171819時 —以下から選択してください—001020304050分 ～ のクラス\n \nお名前\n		 (必須)\n		\n \n\n \nメールアドレス\n		 (必須)\n		\n \n\n \nお電話番号（携帯可）\n		 (必須)\n		\n \n\n \nこちらのスタジオを何でお知りになりましたか？\n		 (必須)\n		\n \nチラシ看板書籍雑誌紹介Yahoo検索Google検索口コミその他Webサイト\n \nご関心があること、習得したいこと（複数可）\n \n自然治癒力アップ集中力アップダイエット体質改善ストレス緩和丹田強化呼吸法瞑想法リラックス運動不足解消姿勢がよくなりたいその他（備考欄にご記入ください）\n \n備考欄\n \n\n \n\n\n \n\n Δ \n\n\n\n株式会社DAHN WORLD JAPAN　ダンワールドジャパン
URL:https://ilchibrainyoga-ishibashi.com/event/ishibashi-138/
LOCATION:イルチブレインヨガ石橋スタジオ\, 大阪府池田市石橋 2丁目 2-10\, 牧野ビル2F\, 日本
CATEGORIES:体験会
ATTACH;FMTTYPE=image/jpeg:https://ilchibrainyoga-ishibashi.com/wp-content/uploads/2026/02/267bb1cceb0f00165be06139d21e2f40.jpg
END:VEVENT
END:VCALENDAR